BEGIN:VCALENDAR
VERSION:2.0
PRODID:-//www.bolligen.ch//NONSGML kigkonsult.se iCalcreator 2.22//
CALSCALE:GREGORIAN
METHOD:PUBLISH
X-WR-TIMEZONE','EUROPE/BERLIN:
BEGIN:VEVENT
UID:20260420T162126CEST-3250Ux4KUD@www.bolligen.ch
DTSTAMP:20260420T142126Z
DESCRIPTION:Klicken Sie auf den folgenden Link\, um weitere Informationen z
 ur Veranstaltung zu erhalten:\nhttp://www.bolligen.ch/de/veranstaltungen/d
 etail/detail.php?i=407
DTSTART:20260506T080000
DTEND:20260506T113000
LOCATION:Dorfmärit
SUMMARY:Stand am Bolliger Frühlingsmärit 
END:VEVENT
END:VCALENDAR
